BEGIN:VCALENDAR
VERSION:2.0
PRODID:-//Miss Behavin - ECPv6.5.0//NONSGML v1.0//EN
CALSCALE:GREGORIAN
METHOD:PUBLISH
X-WR-CALNAME:Miss Behavin
X-ORIGINAL-URL:http://missbehavin.manontromp.com
X-WR-CALDESC:Events for Miss Behavin
REFRESH-INTERVAL;VALUE=DURATION:PT1H
X-Robots-Tag:noindex
X-PUBLISHED-TTL:PT1H
BEGIN:VTIMEZONE
TZID:Europe/London
BEGIN:DAYLIGHT
TZOFFSETFROM:+0000
TZOFFSETTO:+0100
TZNAME:BST
DTSTART:20180325T010000
END:DAYLIGHT
BEGIN:STANDARD
TZOFFSETFROM:+0100
TZOFFSETTO:+0000
TZNAME:GMT
DTSTART:20181028T010000
END:STANDARD
END:VTIMEZONE
BEGIN:VEVENT
DTSTART;TZID=Europe/London:20181208T204500
DTEND;TZID=Europe/London:20181208T224500
DTSTAMP:20260422T173520
CREATED:20181029T193728Z
LAST-MODIFIED:20181029T193728Z
UID:194-1544301900-1544309100@missbehavin.manontromp.com
SUMMARY:Miss Behavin Birthday Gig
DESCRIPTION:Manon\, the Miss Behavin of Glastonbury – has her birthday on this evening and invites her musician and singing friends to come and join her on stage. It will be an evening of sharing songs and just enjoying the music in the wonderful environment of the oldest pub in town\, The George & Pilgrims.
URL:http://missbehavin.manontromp.com/event/miss-behavin-birthday-gig/
LOCATION:George & Pilgrims\, High Street\, Glastonbury\, United Kingdom
ORGANIZER;CN="Manon Tromp":MAILTO:missbehavin@manontromp.com
END:VEVENT
BEGIN:VEVENT
DTSTART;TZID=Europe/London:20181213T083000
DTEND;TZID=Europe/London:20181213T223000
DTSTAMP:20260422T173520
CREATED:20181029T193143Z
LAST-MODIFIED:20181029T193143Z
UID:191-1544689800-1544740200@missbehavin.manontromp.com
SUMMARY:Miss Behavin Christmas Jazz Session
DESCRIPTION:We are dreaming of a white jazzy Christmas! Santa Baby\, hurry down the chimney tonight …. This evening will have a Christmas theme – not all songs – but enough to get you in the Christmas spirit. if you want to join in – let us know!
URL:http://missbehavin.manontromp.com/event/miss-behavin-christmas-jazz-session/
LOCATION:Hawthorns Cafe\, Northload Street \, Glastonbury\, United Kingdom
ORGANIZER;CN="Manon Tromp":MAILTO:missbehavin@manontromp.com
END:VEVENT
END:VCALENDAR