BEGIN:VCALENDAR
VERSION:2.0
PRODID:-//Miss Behavin - ECPv6.5.0//NONSGML v1.0//EN
CALSCALE:GREGORIAN
METHOD:PUBLISH
X-WR-CALNAME:Miss Behavin
X-ORIGINAL-URL:http://missbehavin.manontromp.com
X-WR-CALDESC:Events for Miss Behavin
REFRESH-INTERVAL;VALUE=DURATION:PT1H
X-Robots-Tag:noindex
X-PUBLISHED-TTL:PT1H
BEGIN:VTIMEZONE
TZID:Europe/London
BEGIN:DAYLIGHT
TZOFFSETFROM:+0000
TZOFFSETTO:+0100
TZNAME:BST
DTSTART:20180325T010000
END:DAYLIGHT
BEGIN:STANDARD
TZOFFSETFROM:+0100
TZOFFSETTO:+0000
TZNAME:GMT
DTSTART:20181028T010000
END:STANDARD
END:VTIMEZONE
BEGIN:VEVENT
DTSTART;TZID=Europe/London:20181115T203000
DTEND;TZID=Europe/London:20181115T223000
DTSTAMP:20260422T204700
CREATED:20181029T192644Z
LAST-MODIFIED:20181029T192644Z
UID:189-1542313800-1542321000@missbehavin.manontromp.com
SUMMARY:Miss Behavin Jazz Session
DESCRIPTION:Our monthly Jazz Session on the Third Thursday of the month at the wonderful Hawthorns. Thursday night is always Curry Night so combined with an evening of Jazz and some Blues – to guarantees a entertaining evening. \nThis session is open to musicians and singers of all levels – please let us know in advance if you want to perform.
URL:http://missbehavin.manontromp.com/event/miss-behavin-jazz-session/
LOCATION:Hawthorns Cafe\, Northload Street \, Glastonbury\, United Kingdom
ORGANIZER;CN="Manon Tromp":MAILTO:missbehavin@manontromp.com
END:VEVENT
END:VCALENDAR